BEGIN:VCALENDAR
VERSION:2.0
PRODID:-//Inspiration Art Group International - ECPv6.15.20//NONSGML v1.0//EN
CALSCALE:GREGORIAN
METHOD:PUBLISH
X-WR-CALNAME:Inspiration Art Group International
X-ORIGINAL-URL:https://inspirationartgroup.org
X-WR-CALDESC:Events for Inspiration Art Group International
REFRESH-INTERVAL;VALUE=DURATION:PT1H
X-Robots-Tag:noindex
X-PUBLISHED-TTL:PT1H
BEGIN:VTIMEZONE
TZID:America/New_York
BEGIN:DAYLIGHT
TZOFFSETFROM:-0500
TZOFFSETTO:-0400
TZNAME:EDT
DTSTART:20240310T070000
END:DAYLIGHT
BEGIN:STANDARD
TZOFFSETFROM:-0400
TZOFFSETTO:-0500
TZNAME:EST
DTSTART:20241103T060000
END:STANDARD
BEGIN:DAYLIGHT
TZOFFSETFROM:-0500
TZOFFSETTO:-0400
TZNAME:EDT
DTSTART:20250309T070000
END:DAYLIGHT
BEGIN:STANDARD
TZOFFSETFROM:-0400
TZOFFSETTO:-0500
TZNAME:EST
DTSTART:20251102T060000
END:STANDARD
BEGIN:DAYLIGHT
TZOFFSETFROM:-0500
TZOFFSETTO:-0400
TZNAME:EDT
DTSTART:20260308T070000
END:DAYLIGHT
BEGIN:STANDARD
TZOFFSETFROM:-0400
TZOFFSETTO:-0500
TZNAME:EST
DTSTART:20261101T060000
END:STANDARD
END:VTIMEZONE
BEGIN:VEVENT
DTSTART;TZID=America/New_York:20251202T130000
DTEND;TZID=America/New_York:20251202T160000
DTSTAMP:20260423T175257
CREATED:20230430T220659Z
LAST-MODIFIED:20251104T232204Z
UID:10621-1764680400-1764691200@inspirationartgroup.org
SUMMARY:Art for Peace
DESCRIPTION:A free\, virtual open studio\n\n\n\n1:00 PM – 4:00 PM New York TimeTuesday – April – 7\, 14\, 21 & 28Tuesday – May – 05\, 12 & 19 \n\n\n\n\nEnter Art For Peace\n\n\n\n\n\n\nWe gather to make art in our virtual community to become more grounded and peaceful. It is a beautiful way to unite with like-minded individuals while participating in your creative practice of choice! Art for Peace was founded by renowned art therapist and educator\, Barbara Fish\, as a creative response to the violent events of September 11\, 2001. For twenty years\, Art for Peace has offered a free space for community art-making. Our intention is to become responsive instead of reactive in our lives\, despite the traumatic events that we witness.
URL:https://inspirationartgroup.org/event/art-for-peace-18/
LOCATION:New York
ATTACH;FMTTYPE=image/jpeg:https://inspirationartgroup.org/wp-content/uploads/2023/04/Art_Peace5x7-1.jpg
END:VEVENT
BEGIN:VEVENT
DTSTART;TZID=America/New_York:20251202T140000
DTEND;TZID=America/New_York:20251202T150000
DTSTAMP:20260423T175257
CREATED:20251126T191331Z
LAST-MODIFIED:20251126T191417Z
UID:17001-1764684000-1764687600@inspirationartgroup.org
SUMMARY:Group Coaching
DESCRIPTION:We will be doing Coaching with Collage\, so come to this session with collage materials\, including items from your trash and/or recycling. \n\n\n\nIn Life & Engagement coaching the coach helps you find solutions to your challenges and overcome obstacles to your success by asking questions. \n\n\n\nEngagement Coaching is not therapy or counseling\, mentoring\, advice-giving or problem-solving. \n\n\n\nYou will be invited\, but not required\, to share with the group. \n\n\n\n\n\n\n\n\n\n\n\n\n\n\n\n\nEnter Coaching Session
URL:https://inspirationartgroup.org/event/group-coaching-collage/
LOCATION:New York
ATTACH;FMTTYPE=image/jpeg:https://inspirationartgroup.org/wp-content/uploads/2024/09/8-Heart@Life-504x360-1.jpg
END:VEVENT
BEGIN:VEVENT
DTSTART;TZID=America/New_York:20251210T103000
DTEND;TZID=America/New_York:20251210T173000
DTSTAMP:20260423T175257
CREATED:20251126T191956Z
LAST-MODIFIED:20251210T151704Z
UID:17005-1765362600-1765387800@inspirationartgroup.org
SUMMARY:Cultural Trip to MOMA & the Whitney
DESCRIPTION:Wednesday\, December 10\, 2025 \n\n\n\n\n10:30 am at MoMA: Ruth Asawa\, A Retrospective \n\n\n\n2:30 pm at Whitney Museum of Art: Sixties Surreal\, with exhibiting artist Martha Edelheit\n\n\n\n\nRead the profile of the trailblazing artist Martha Edelheit by Frank Matheis.  \n\n\n\n\n\n \n\n\n\n\n\n\n\nRegister for TripFirst NameLast NameEmail Address *Phone NumberWhich museum(s) do you plan to visit *MoMA at 10:30 amWhitney Museum of Art at 2:30 pmMessage0 / 180Consent *Yes\, I agree with the privacy policy and terms and conditions. Send Message
URL:https://inspirationartgroup.org/event/cultural-trip-to-moma-and-the-whitney/
LOCATION:New York
ATTACH;FMTTYPE=image/jpeg:https://inspirationartgroup.org/wp-content/uploads/2025/11/Martha-Edelheit-moma.jpg
END:VEVENT
BEGIN:VEVENT
DTSTART;TZID=America/New_York:20251211T103000
DTEND;TZID=America/New_York:20251211T173000
DTSTAMP:20260423T175257
CREATED:20251210T151801Z
LAST-MODIFIED:20251210T152052Z
UID:17227-1765449000-1765474200@inspirationartgroup.org
SUMMARY:Cultural Trip to MOMA & the Whitney
DESCRIPTION:Wednesday\, December 11\, 2025 \n\n\n\n\n10:30 am at MoMA: Ruth Asawa\, A Retrospective \n\n\n\n2:30 pm at Whitney Museum of Art: Sixties Surreal\, with exhibiting artist Martha Edelheit\n\n\n\n\nRead the profile of the trailblazing artist Martha Edelheit by Frank Matheis.  \n\n\n\n\n\n \n\n\n\n\n\n\n\nRegister for TripFirst NameLast NameEmail Address *Phone NumberWhich museum(s) do you plan to visit *MoMA at 10:30 amWhitney Museum of Art at 2:30 pmMessage0 / 180Consent *Yes\, I agree with the privacy policy and terms and conditions. Send Message
URL:https://inspirationartgroup.org/event/cultural-trip-to-moma-the-whitney-copy/
LOCATION:New York
ATTACH;FMTTYPE=image/jpeg:https://inspirationartgroup.org/wp-content/uploads/2025/11/Martha-Edelheit-moma.jpg
END:VEVENT
END:VCALENDAR