BEGIN:VCALENDAR
VERSION:2.0
PRODID:-//Inspiration Art Group International - ECPv6.15.20//NONSGML v1.0//EN
CALSCALE:GREGORIAN
METHOD:PUBLISH
X-ORIGINAL-URL:https://inspirationartgroup.org
X-WR-CALDESC:Events for Inspiration Art Group International
REFRESH-INTERVAL;VALUE=DURATION:PT1H
X-Robots-Tag:noindex
X-PUBLISHED-TTL:PT1H
BEGIN:VTIMEZONE
TZID:America/New_York
BEGIN:DAYLIGHT
TZOFFSETFROM:-0500
TZOFFSETTO:-0400
TZNAME:EDT
DTSTART:20240310T070000
END:DAYLIGHT
BEGIN:STANDARD
TZOFFSETFROM:-0400
TZOFFSETTO:-0500
TZNAME:EST
DTSTART:20241103T060000
END:STANDARD
BEGIN:DAYLIGHT
TZOFFSETFROM:-0500
TZOFFSETTO:-0400
TZNAME:EDT
DTSTART:20250309T070000
END:DAYLIGHT
BEGIN:STANDARD
TZOFFSETFROM:-0400
TZOFFSETTO:-0500
TZNAME:EST
DTSTART:20251102T060000
END:STANDARD
BEGIN:DAYLIGHT
TZOFFSETFROM:-0500
TZOFFSETTO:-0400
TZNAME:EDT
DTSTART:20260308T070000
END:DAYLIGHT
BEGIN:STANDARD
TZOFFSETFROM:-0400
TZOFFSETTO:-0500
TZNAME:EST
DTSTART:20261101T060000
END:STANDARD
END:VTIMEZONE
BEGIN:VEVENT
DTSTART;TZID=America/New_York:20250708T140000
DTEND;TZID=America/New_York:20250708T150000
DTSTAMP:20260424T133123
CREATED:20250327T231806Z
LAST-MODIFIED:20250708T141234Z
UID:15169-1751983200-1751986800@inspirationartgroup.org
SUMMARY:Group Coaching
DESCRIPTION:In Life & Engagement coaching the coach helps you find solutions to your challenges and overcome obstacles to your success by asking questions. \n\n\n\nEngagement Coaching is not therapy or counseling\, mentoring\, advice-giving or problem-solving. \n\n\n\nIn this session\, we will focus on experiencing the present moment.  \n\n\n\nYou will be invited\, but not required\, to share with the group. \n\n\n\n\n\n\n\n\n\n\n\n\n\n\n\n\nEnter Coaching Session
URL:https://inspirationartgroup.org/event/group-coaching-4/
LOCATION:New York
ATTACH;FMTTYPE=image/jpeg:https://inspirationartgroup.org/wp-content/uploads/2024/09/8-Heart@Life-504x360-1.jpg
END:VEVENT
BEGIN:VEVENT
DTSTART;TZID=America/New_York:20250712T110000
DTEND;TZID=America/New_York:20250712T130000
DTSTAMP:20260424T133123
CREATED:20250708T135730Z
LAST-MODIFIED:20250708T140347Z
UID:15735-1752318000-1752325200@inspirationartgroup.org
SUMMARY:Bird Workshop with Sarah Haviland
DESCRIPTION:Simple techniques will be used to make a personalized small environmental sculpture with recycled materials. \n\n\n\nStarr Library\, 68 W. Market Street\, Rhinebeck\, NY \n\n\n\n\nRegister @ Starr Library\n\n\n\n\n\n\n\n\nPart of the “Address: Earth – Overstory” Exhibition.
URL:https://inspirationartgroup.org/event/bird-workshop-with-sarah-haviland/
LOCATION:New York
ATTACH;FMTTYPE=image/jpeg:https://inspirationartgroup.org/wp-content/uploads/2025/07/Becoming-a-Bird-Sarah-Haviland.jpg
END:VEVENT
BEGIN:VEVENT
DTSTART;TZID=America/New_York:20250712T140000
DTEND;TZID=America/New_York:20250712T160000
DTSTAMP:20260424T133123
CREATED:20250708T142724Z
LAST-MODIFIED:20250709T170211Z
UID:15755-1752328800-1752336000@inspirationartgroup.org
SUMMARY:Address:Earth - Reef: Artists Talk & Piano Concert
DESCRIPTION:Address:Earth – Reef  \n\n\n\nMay 17 – July 12 \n\n\n\nOlive Gallery at Olive Free Library4033 NY-28A\, West Shokan\, NY \n\n\n\nArtists’ Talk: Saturday\, July 12\, 2PM – 3PM \n\n\n\nMargarita Nuller – PianoSaturday\, July 12\, 3PM – 4PM \n\n\n\nArtists:\n\n\n\nBob Gould\, Christine Knowlton\, Chuck von Schmidt\, George Spencer\, Jenna Lash\, Karen LaFleur\, Leslie Connito\, Marjorie Morrow\, Nancy Tucker\, Phyllis Chadwick. \n\n\n\nCurated by Bibiana Huang Matheis \n\n\n\n\n\n\n\n\n\nArtists’ Talk\, 2pm – 3pm\n\n\n\n\n\n\n\nMargarita Nuller\, Piano\, 3pm – 4pm\n\n\n\nThe program consists of works by Chopin\, Liszt\, Debussy\, Ravel inspired by water. \n\n\n\n\n\nMs. Nuller graduated from the St. Petersburg Conservatory\, Russia. Since her arrival in the United States in 1990\, she has performed extensively as a soloist and chamber musician in the New York metropolitan area and in New England\, as well as in Brazil\, Russia\, Spain\, and Portugal. She has been a soloist with the Arkansas Symphony\, Danbury Symphony (CT)\, Klassika Orchestra (St. Petersburg\, Russia)\, Orchestra Temple Beth El (CT)\, and Chamber Orchestra of Puerto Rico. Currently Ms. Nuller has a  teaching studio in New Fairfield\, CT and is on the faculty of the Kent School (CT)\, and Sacred Heart University (Fairfield\, CT). She is the organist at the First Church of Christ Scientist in Ridgefield\, CT and a regular accompanist at Camerata d’Amici.
URL:https://inspirationartgroup.org/event/artists-talk-at-addressearth-reef-exhibition/
LOCATION:Olive Free Library\, 4033 NY-28A\, West Shokan\, New York
END:VEVENT
BEGIN:VEVENT
DTSTART;TZID=America/New_York:20250712T170000
DTEND;TZID=America/New_York:20250712T190000
DTSTAMP:20260424T133123
CREATED:20250708T174620Z
LAST-MODIFIED:20250708T175250Z
UID:15765-1752339600-1752346800@inspirationartgroup.org
SUMMARY:Address:Earth – Cave: Artists Talk & Dance
DESCRIPTION:A Premier\, “The Cave”\n\n\n\nAnna Mayta Choreographer and dancer \n\n\n\nBeth Tolmach Music composer and dancer \n\n\n\n\n\n\n\n\n\n\n\n\n\n\n\n\n\n\n\n\n\n\n\nAddress:Earth – Cave \n\n\n\nQueen of Rogues Gallery2440 Route 28 West\, Glenford\, NY \n\n\n\nMay 17 – July 12Opening Reception: Saturday\, May 17\, 4PM – 6PMClosing Reception: Saturday\, July 12\, 5PM – 7PMAnna Mayta – DanceBeth Tolmach – Music & Dance \n\n\n\nArtists\n\n\n\nBibiana Huang Matheis\, Elisa Pritzker\, Elizabeth McDonald\, Ilse Schreiber-Noll\, Leslie Pelino\, Marjorie Morrow\, Martin Springhetti\, Tanya Kukucka \n\n\n\nCurated by Bibiana Huang Matheis \n\n\n\n \n\n\n\nHOURS:Friday and Saturday 2PM – 6PM Sunday by Appointment Email liz@queenofrogues.com
URL:https://inspirationartgroup.org/event/addressearth-cave-artists-talk-dance/
LOCATION:Queen of Rogues Gallery\, 2440 Route 28 West\, Glenford\, New York
ATTACH;FMTTYPE=image/jpeg:https://inspirationartgroup.org/wp-content/uploads/2025/04/AddressEarthCave_5x7-1.jpg
END:VEVENT
BEGIN:VEVENT
DTSTART;TZID=America/New_York:20250727T150000
DTEND;TZID=America/New_York:20250727T170000
DTSTAMP:20260424T133123
CREATED:20250721T205633Z
LAST-MODIFIED:20250721T210007Z
UID:15858-1753628400-1753635600@inspirationartgroup.org
SUMMARY:Address:Earth - WaterStory: Artist Talk
DESCRIPTION:Address:Earth – WaterStory\n\n\n\nCONVEY/ER/OR Gallery297 Main Street\, Poughkeepsie\, New York \n\n\n\nJune 7 – July 27Opening Reception: Saturday\, June 14\, 4PM – 6PMArtist’s Talk: Sunday\, July 27\, 3PM – 5PM \n\n\n\nArtists\n\n\n\nBibiana Huang Matheis\,Mimi Czajka Graminski Bibi – Mimi – Ocean MemoJune 7 – July 27 – Text for Appointment: 917-334-5357
URL:https://inspirationartgroup.org/event/addressearth-waterstory-artist-talk/
LOCATION:New York
ATTACH;FMTTYPE=image/jpeg:https://inspirationartgroup.org/wp-content/uploads/2025/04/WaterStory_5x7.jpg
END:VEVENT
END:VCALENDAR