BEGIN:VCALENDAR
VERSION:2.0
PRODID:-//Inspiration Art Group International - ECPv6.15.20//NONSGML v1.0//EN
CALSCALE:GREGORIAN
METHOD:PUBLISH
X-ORIGINAL-URL:https://inspirationartgroup.org
X-WR-CALDESC:Events for Inspiration Art Group International
REFRESH-INTERVAL;VALUE=DURATION:PT1H
X-Robots-Tag:noindex
X-PUBLISHED-TTL:PT1H
BEGIN:VTIMEZONE
TZID:America/New_York
BEGIN:DAYLIGHT
TZOFFSETFROM:-0500
TZOFFSETTO:-0400
TZNAME:EDT
DTSTART:20240310T070000
END:DAYLIGHT
BEGIN:STANDARD
TZOFFSETFROM:-0400
TZOFFSETTO:-0500
TZNAME:EST
DTSTART:20241103T060000
END:STANDARD
BEGIN:DAYLIGHT
TZOFFSETFROM:-0500
TZOFFSETTO:-0400
TZNAME:EDT
DTSTART:20250309T070000
END:DAYLIGHT
BEGIN:STANDARD
TZOFFSETFROM:-0400
TZOFFSETTO:-0500
TZNAME:EST
DTSTART:20251102T060000
END:STANDARD
BEGIN:DAYLIGHT
TZOFFSETFROM:-0500
TZOFFSETTO:-0400
TZNAME:EDT
DTSTART:20260308T070000
END:DAYLIGHT
BEGIN:STANDARD
TZOFFSETFROM:-0400
TZOFFSETTO:-0500
TZNAME:EST
DTSTART:20261101T060000
END:STANDARD
END:VTIMEZONE
BEGIN:VEVENT
DTSTART;TZID=America/New_York:20250601T130000
DTEND;TZID=America/New_York:20250601T150000
DTSTAMP:20260424T150024
CREATED:20250508T210215Z
LAST-MODIFIED:20250508T210454Z
UID:15485-1748782800-1748790000@inspirationartgroup.org
SUMMARY:Opening Reception for SOS – Address:Earth
DESCRIPTION:SOS – Address:Earth \n\n\n\nKatonah Village Library26 Bedford Rd\, Katonah\, NY \n\n\n\nJune 1 – June 30Opening Reception: Sunday\, June 1\, 1PM – 3PMArtists’ Talk: June 29\, 2PM – 4PM \n\n\n\nArtists\n\n\n\nTwo Solo Exhibits: \n\n\n\n Corinne Lapin-Cohen  \n\n\n\n Monique Allain  \n\n\n\nCurated by Bibiana Huang Matheis \n\n\n\nHours & Directions
URL:https://inspirationartgroup.org/event/opening-reception-for-sos-addressearth/
LOCATION:New York
ATTACH;FMTTYPE=image/jpeg:https://inspirationartgroup.org/wp-content/uploads/2025/04/2_SOS_ePoster_5x7.jpg
END:VEVENT
BEGIN:VEVENT
DTSTART;TZID=America/New_York:20250601T150000
DTEND;TZID=America/New_York:20250601T170000
DTSTAMP:20260424T150024
CREATED:20250509T153627Z
LAST-MODIFIED:20250509T153640Z
UID:15495-1748790000-1748797200@inspirationartgroup.org
SUMMARY:Opening Reception for Address:Earth---Texture As Testimony
DESCRIPTION:Address:EarthTexture As Testimony\n\n\n\nAt the Barn276 Titicus Road\, North Salem\, NYnext to R. Keeler Memorial Library \n\n\n\nJune 1 – July 31Opening Reception: Sunday\, June 1\, 3PM – 5PMArtists’ Talk: June 29\, 1PM – 3PM \n\n\n\nArtists:\n\n\n\n Antoinette WysockiCeci Cole Mcinturff \n\n\n\nCurated by Bibiana Huang Matheis \n\n\n\nJune 1-July 31 by AppointmentEmail antoinettewysockiart@gmail.com
URL:https://inspirationartgroup.org/event/opening-reception-for-addressearth-texture-as-testimony/
LOCATION:New York
ATTACH;FMTTYPE=image/jpeg:https://inspirationartgroup.org/wp-content/uploads/2025/04/Texture-As-Testimony.jpg
END:VEVENT
BEGIN:VEVENT
DTSTART;TZID=America/New_York:20250610T170000
DTEND;TZID=America/New_York:20250610T180000
DTSTAMP:20260424T150024
CREATED:20250520T225915Z
LAST-MODIFIED:20250520T230351Z
UID:15621-1749574800-1749578400@inspirationartgroup.org
SUMMARY:Who Is She? Party with Art History
DESCRIPTION:Presented by Tilly Strauss \n\n\n\nQuarterly Virtual Presentation Series: Celebrating Women Artists\n\n\n\n\n\n\n\n\n\n\n\nThis new quarterly virtual series will honor the exceptional contributions of women artists\, spotlighting those whose birthdays and significant milestones fall within each season. Each session will weave together historical context\, artistic legacies\, visual storytelling\, and recommendations for places to view their work. The goal is to create a dynamic\, immersive experience that nurtures both knowledge and connection. \n\n\n\nJune Artwomen:Judy Chicago (July 20\, 1939)Catherine the Great (May 2\, 1729-1762)Tamara Lempicka (May 16\, 1894-1980)Dorothea Lange (May 26\, 1895-1965)Magdalena Abakanowicz (June 20\, 1930-2017) \n\n\n\n\n\n\n\n\n\n\nWatch Video at 5 pm on June\, 2025 or after\n\n\n\n\n\n\n\n\n\n\n\n\nPast and Future Sessions
URL:https://inspirationartgroup.org/event/who-is-she-party-with-art-history/
LOCATION:New York
ATTACH;FMTTYPE=image/jpeg:https://inspirationartgroup.org/wp-content/uploads/2025/05/Who-is-She-June-2025.jpg
END:VEVENT
BEGIN:VEVENT
DTSTART;TZID=America/New_York:20250614T140000
DTEND;TZID=America/New_York:20250614T160000
DTSTAMP:20260424T150024
CREATED:20250509T213408Z
LAST-MODIFIED:20250509T214839Z
UID:15527-1749909600-1749916800@inspirationartgroup.org
SUMMARY:Opening Reception for Address:Earth – Overstory
DESCRIPTION:Address:EarthOverstory\n\n\n\nStarr Library68 W. Market Street\, Rhinebeck\, NY \n\n\n\nJune 5 – August 28Opening Reception: Saturday\, June 14\, 2PM – 4PMBird Workshop with Sarah Haviland – Saturday\, July 12 – 11AM-1PM \n\n\n\nArtists:\n\n\n\nBridget Pavalow\, Bryan Henry\, Frank Matheis\, Ilse Schreiber Noll\, Leslie Connito\, Marcy B. Freedman\, Patti Eittinger\, Randy Orzano\, Sally Frank\,Sarah Haviland\, Susan Hennelly\, Tanya Kukucka\, Tilly Strauss \n\n\n\nCurated by Bibiana Huang Matheis \n\n\n\nHours:
URL:https://inspirationartgroup.org/event/opening-reception-for-addressearth-overstory/
LOCATION:New York
ATTACH;FMTTYPE=image/jpeg:https://inspirationartgroup.org/wp-content/uploads/2025/04/Overstoy_Starr_2-scaled.jpg
END:VEVENT
BEGIN:VEVENT
DTSTART;TZID=America/New_York:20250614T160000
DTEND;TZID=America/New_York:20250614T180000
DTSTAMP:20260424T150024
CREATED:20250509T185920Z
LAST-MODIFIED:20250509T185929Z
UID:15524-1749916800-1749924000@inspirationartgroup.org
SUMMARY:Opening Reception for Address:Earth - WaterStory
DESCRIPTION:Address:Earth – WaterStory\n\n\n\nCONVEY/ER/OR Gallery297 Main Street\, Poughkeepsie\, New York \n\n\n\nJune 7 – July 27Opening Reception: Saturday\, June 14\, 4PM – 6PMArtist’s Talk: Sunday\, July 27\, 3PM – 5PM \n\n\n\nArtists\n\n\n\nBibiana Huang Matheis\,Mimi Czajka Graminski Bibi – Mimi – Ocean MemoJune 7 – July 27 – Text for Appointment: 917-334-5357
URL:https://inspirationartgroup.org/event/opening-reception-for-addressearth-waterstory/
LOCATION:New York
ATTACH;FMTTYPE=image/jpeg:https://inspirationartgroup.org/wp-content/uploads/2025/04/WaterStory_5x7.jpg
END:VEVENT
BEGIN:VEVENT
DTSTART;TZID=America/New_York:20250625T140000
DTEND;TZID=America/New_York:20250625T170000
DTSTAMP:20260424T150024
CREATED:20250618T105313Z
LAST-MODIFIED:20250618T105700Z
UID:15698-1750860000-1750870800@inspirationartgroup.org
SUMMARY:Studio Visit
DESCRIPTION:Artist Corinne Lapin -CohenSOS: ADDRESS EARTH \n\n\n\n2:00 PM at Katonah Village Library26 Bedford Road\, Katonah\, New York \n\n\n\nJoin artist Corinne Lapin-Cohen to explore the current art exhibition SOS: ADDRESS EARTH followed by an exclusive visit to the artist’s nearby studio.  \n\n\n\nFind out more and register.
URL:https://inspirationartgroup.org/event/studio-visit-3/
LOCATION:New York
ATTACH;FMTTYPE=image/jpeg:https://inspirationartgroup.org/wp-content/uploads/2024/11/StudioVisit-copy.jpg
END:VEVENT
END:VCALENDAR