BEGIN:VCALENDAR
VERSION:2.0
PRODID:-//Inspiration Art Group International - ECPv6.15.20//NONSGML v1.0//EN
CALSCALE:GREGORIAN
METHOD:PUBLISH
X-ORIGINAL-URL:https://inspirationartgroup.org
X-WR-CALDESC:Events for Inspiration Art Group International
REFRESH-INTERVAL;VALUE=DURATION:PT1H
X-Robots-Tag:noindex
X-PUBLISHED-TTL:PT1H
BEGIN:VTIMEZONE
TZID:America/New_York
BEGIN:DAYLIGHT
TZOFFSETFROM:-0500
TZOFFSETTO:-0400
TZNAME:EDT
DTSTART:20240310T070000
END:DAYLIGHT
BEGIN:STANDARD
TZOFFSETFROM:-0400
TZOFFSETTO:-0500
TZNAME:EST
DTSTART:20241103T060000
END:STANDARD
BEGIN:DAYLIGHT
TZOFFSETFROM:-0500
TZOFFSETTO:-0400
TZNAME:EDT
DTSTART:20250309T070000
END:DAYLIGHT
BEGIN:STANDARD
TZOFFSETFROM:-0400
TZOFFSETTO:-0500
TZNAME:EST
DTSTART:20251102T060000
END:STANDARD
BEGIN:DAYLIGHT
TZOFFSETFROM:-0500
TZOFFSETTO:-0400
TZNAME:EDT
DTSTART:20260308T070000
END:DAYLIGHT
BEGIN:STANDARD
TZOFFSETFROM:-0400
TZOFFSETTO:-0500
TZNAME:EST
DTSTART:20261101T060000
END:STANDARD
END:VTIMEZONE
BEGIN:VEVENT
DTSTART;TZID=America/New_York:20250517T150000
DTEND;TZID=America/New_York:20250517T170000
DTSTAMP:20260424T163239
CREATED:20250407T002532Z
LAST-MODIFIED:20250509T151643Z
UID:15221-1747494000-1747501200@inspirationartgroup.org
SUMMARY:Opening Reception for Address:Earth - Reef
DESCRIPTION:Address:Earth – Reef  \n\n\n\nOlive Gallery at Oliver Free Library4033 NY-28A\, West Shokan\, NY  \n\n\n\nMay 17 – July 12 Opening Reception: Saturday\, May 17\, 3PM – 5PMAlden Brine – PianoArtists’ Meet & Greet: Saturday\, July 12\, 2PM – 4PMMargarita Nuller – Piano \n\n\n\nArtists:\n\n\n\nBob Gould\, Christine Knowlton\, Chuck von Schmidt\, George Spencer\, Jenna Lash\, Karen LaFleur\, Leslie Connito\, Marjorie Morrow\, Nancy Tucker\, Phyllis Chadwick. \n\n\n\nCurated by Bibiana Huang Matheis
URL:https://inspirationartgroup.org/event/addressearth-reef-opening-reception/
LOCATION:Oliver Free Library\, 4033 NY-28A\, West Shokan\, New York
END:VEVENT
BEGIN:VEVENT
DTSTART;TZID=America/New_York:20250517T150000
DTEND;TZID=America/New_York:20250517T170000
DTSTAMP:20260424T163239
CREATED:20250508T135115Z
LAST-MODIFIED:20250508T140454Z
UID:15464-1747494000-1747501200@inspirationartgroup.org
SUMMARY:Opening Reception for Address:Earth - Desert
DESCRIPTION:Address:Earth – Desert\n\n\n\nOut Door Sculpture at Olive Free Library4033 NY-28A\, West Shokan\, NY \n\n\n\nMay 17 – September 21Opening Reception: Saturday\, May 17\, 3:00PM – 5:00PMAlden Brine – PianoArtists’ Meet & Greet: Saturday\, July 12\, 2:00PM – 4:00PMMargarita Nuller-Piano \n\n\n\nArtists\n\n\n\nAlan CohenGeorge SpencerLinda MussmannNaomi Teppich \n\n\n\nCurated by Bibiana Huang MatheisHours
URL:https://inspirationartgroup.org/event/opening-reception-for-addressearth-desert/
LOCATION:Oliver Free Library\, 4033 NY-28A\, West Shokan\, New York
ATTACH;FMTTYPE=image/jpeg:https://inspirationartgroup.org/wp-content/uploads/2025/04/Desert_ePoster.jpg
END:VEVENT
BEGIN:VEVENT
DTSTART;TZID=America/New_York:20250517T160000
DTEND;TZID=America/New_York:20250517T180000
DTSTAMP:20260424T163239
CREATED:20250508T203352Z
LAST-MODIFIED:20250508T203652Z
UID:15478-1747497600-1747504800@inspirationartgroup.org
SUMMARY:Opening Reception for Address:Earth – Cave
DESCRIPTION:Address:Earth – Cave \n\n\n\nQueen of Rogues Gallery2440 Route 28 West\, Glenford\, NY \n\n\n\nMay 17 – July 12Opening Reception: Saturday\, May 17\, 4PM – 6PMClosing Reception: Saturday\, July 12\, 5PM – 7PMAnna Mayta – DanceBeth Tolmach – Music & Dance \n\n\n\nArtists\n\n\n\nBibiana Huang Matheis\, Elisa Pritzker\, Elizabeth McDonald\, Ilse Schreiber-Noll\, Leslie Pelino\, Marjorie Morrow\, Martin Springhetti\, Tanya Kukucka \n\n\n\nCurated by Bibiana Huang Matheis \n\n\n\n \n\n\n\nHOURS:Friday and Saturday 2PM – 6PM Sunday by Appointment Email liz@queenofrogues.com
URL:https://inspirationartgroup.org/event/opening-reception-for-addressearth-cave/
LOCATION:Queen of Rogues Gallery\, 2440 Route 28 West\, Glenford\, New York
ATTACH;FMTTYPE=image/jpeg:https://inspirationartgroup.org/wp-content/uploads/2025/04/AddressEarthCave_5x7-1.jpg
END:VEVENT
END:VCALENDAR