BEGIN:VCALENDAR
VERSION:2.0
PRODID:-//Inspiration Art Group International - ECPv6.15.20//NONSGML v1.0//EN
CALSCALE:GREGORIAN
METHOD:PUBLISH
X-ORIGINAL-URL:https://inspirationartgroup.org
X-WR-CALDESC:Events for Inspiration Art Group International
REFRESH-INTERVAL;VALUE=DURATION:PT1H
X-Robots-Tag:noindex
X-PUBLISHED-TTL:PT1H
BEGIN:VTIMEZONE
TZID:America/New_York
BEGIN:DAYLIGHT
TZOFFSETFROM:-0500
TZOFFSETTO:-0400
TZNAME:EDT
DTSTART:20240310T070000
END:DAYLIGHT
BEGIN:STANDARD
TZOFFSETFROM:-0400
TZOFFSETTO:-0500
TZNAME:EST
DTSTART:20241103T060000
END:STANDARD
BEGIN:DAYLIGHT
TZOFFSETFROM:-0500
TZOFFSETTO:-0400
TZNAME:EDT
DTSTART:20250309T070000
END:DAYLIGHT
BEGIN:STANDARD
TZOFFSETFROM:-0400
TZOFFSETTO:-0500
TZNAME:EST
DTSTART:20251102T060000
END:STANDARD
BEGIN:DAYLIGHT
TZOFFSETFROM:-0500
TZOFFSETTO:-0400
TZNAME:EDT
DTSTART:20260308T070000
END:DAYLIGHT
BEGIN:STANDARD
TZOFFSETFROM:-0400
TZOFFSETTO:-0500
TZNAME:EST
DTSTART:20261101T060000
END:STANDARD
END:VTIMEZONE
BEGIN:VEVENT
DTSTART;TZID=America/New_York:20250204T140000
DTEND;TZID=America/New_York:20250204T150000
DTSTAMP:20260424T214851
CREATED:20241212T173215Z
LAST-MODIFIED:20241231T185854Z
UID:14355-1738677600-1738681200@inspirationartgroup.org
SUMMARY:Group Coaching
DESCRIPTION:In Life & Engagement coaching the coach helps you find solutions to your challenges and overcome obstacles to your success by asking questions. \n\n\n\nEngagement Coaching is not therapy or counseling\, mentoring\, advice-giving or problem-solving. \n\n\n\nIn this session\, we will focus on experiencing the present moment.  \n\n\n\nYou will be invited\, but not required\, to share with the group. \n\n\n\n\n\n\n\n\n\n\n\n\n\n\n\n\nEnter Coaching Session
URL:https://inspirationartgroup.org/event/group-coaching/
LOCATION:New York
ATTACH;FMTTYPE=image/jpeg:https://inspirationartgroup.org/wp-content/uploads/2024/09/8-Heart@Life-504x360-1.jpg
END:VEVENT
BEGIN:VEVENT
DTSTART;TZID=America/New_York:20250204T153000
DTEND;TZID=America/New_York:20250204T163000
DTSTAMP:20260424T214851
CREATED:20250121T195805Z
LAST-MODIFIED:20250203T001414Z
UID:14535-1738683000-1738686600@inspirationartgroup.org
SUMMARY:Remix Autumn Book Club: How to Be Both
DESCRIPTION:How to be both: by Ali Smith \n\n\n\nPlease join us for informal book club discussions hosted by Leslie Connito! The intention and direction of the Remix is to share fresh ideas from new and admired writers. Like a salon\, this platform could bring members work together for shows by sparking new ideas through open and shared discussion.   \n\n\n\n\n\n\nEnter Remix Book Club\n\n\n\n\n\n\n\n\nFind out more about the Remix Autumn Book Club.
URL:https://inspirationartgroup.org/event/remix-autumn-book-club-how-to-be-both/
LOCATION:New York
ATTACH;FMTTYPE=image/jpeg:https://inspirationartgroup.org/wp-content/uploads/2024/09/9_BookClub-504x360-1.jpg
END:VEVENT
BEGIN:VEVENT
DTSTART;TZID=America/New_York:20250208T080000
DTEND;TZID=America/New_York:20250208T090000
DTSTAMP:20260424T214851
CREATED:20241231T192649Z
LAST-MODIFIED:20250114T191733Z
UID:14401-1739001600-1739005200@inspirationartgroup.org
SUMMARY:Meeting for Address:Earth – ArtistBooks
DESCRIPTION:8:00AM New York time via Zoom3:00AM Honolulu  |  5:00AM L.A.  |   7:00AM Mexico City  |  8:00AM New York  |  13:00/1:00PM Reykjavik  |  13:00/1:00PM London  |  14:00/2:00PM Rabat  | 14:00/2:00PM Berlin  |  14:00/2:00PM Paris  | 15:00/3:00PM Helsinki I 15:00/3:00PM Cape Town  |  20:00/8:00PM Yogyakarta  |   21:00/9:00PM Kuala Lumpur  |  21:00/9:00PM Taipei  |  22:00/10PM Tokyo  | \n\n\n\n\n\n\n\n\n\n\n\n\n\n\nEnter 8:00AM New York Time\n\n\n\n\n\n\n\n\n\n\n\n\nAddress:Earth – ArtistBooks in a Suitcase\, a global artistic exchange project organized by the Inspiration Art Group International (IAGI)\, a New York-based collective. This initiative brings together artists from diverse cultural backgrounds\, united by a shared vision to promote collaboration and creative exchange. Let us celebrate our planet earth and to use our art to address the critical global issues that affect our world and environment. \n\n\n\nAs part of this project\, each artist will create their own unique artist’s book. Collectively\, all the books will travel together in one suitcase\, visiting different cities and countries around the world. Our goal is to showcase these artist’s books internationally\, providing a platform for artists to connect and share their work with a global audience. \n\n\n\nSize of the ArtistBooks:\n\n\n\nW x H x DMaximum 16 x 11 x 3 in / 40 x 27 x 8 cmMinimum 3 x 3 in / 8 x 8 x 3 cm \n\n\n\nWeight – maximum 0.50 lb / 250 g \n\n\n\nMaterials Used in ArtistBooks \n\n\n\nSince the books will be traveling internationally\, they should not contain biological materials such as animal fur\, insect parts\, seeds\, leaves\, and other plant parts\, etc. \n\n\n\nMore Information\n\n\n\nMonique’s presentation includes information and images related to this project and to historical and contemporary Artists’ Books. There are also links to additional resources.Artists’ Books Presentation (PDF 5 MB)
URL:https://inspirationartgroup.org/event/meeting-for-addressearth-artistbooks/
LOCATION:New York
ATTACH;FMTTYPE=image/jpeg:https://inspirationartgroup.org/wp-content/uploads/2024/12/Untitled-2.jpg
END:VEVENT
BEGIN:VEVENT
DTSTART;TZID=America/New_York:20250208T170000
DTEND;TZID=America/New_York:20250208T180000
DTSTAMP:20260424T214851
CREATED:20241231T194944Z
LAST-MODIFIED:20250114T191559Z
UID:14414-1739034000-1739037600@inspirationartgroup.org
SUMMARY:Meeting for Address:Earth – ArtistBooks
DESCRIPTION:17:00/ 5:00PM New York time via Zoom12:00 Honolulu l 14:00/2:00PM L.A. l 16:00/4:00PM Mexico City | 17:00/5:00PM New York |  22:00/10:00PM Reykjavik  l 22:00/10:00PM London I 23:00/11:00PM Rabat | 23:00/11:00PM Berlin l   23:00 Paris l24:00/12PM Helsinki l 24:00 Cape Town l  If you live in Asia – it will be Sunday morning January 12  5:00AM Yogyakarta l 6:00AM Kuala Lumpur l    6:00AM Taipei | 7:00AM Tokyo l \n\n\n\n\n\n\n\n\n\n\n\n\n\n\nEnter 17:00/5PM New York Time\n\n\n\n\n\n\n\n\n\n\n\n\nAddress:Earth – ArtistBooks in a Suitcase\, a global artistic exchange project organized by the Inspiration Art Group International (IAGI)\, a New York-based collective. This initiative brings together artists from diverse cultural backgrounds\, united by a shared vision to promote collaboration and creative exchange. Let us celebrate our planet earth and to use our art to address the critical global issues that affect our world and environment. \n\n\n\nAs part of this project\, each artist will create their own unique artist’s book. Collectively\, all the books will travel together in one suitcase\, visiting different cities and countries around the world. Our goal is to showcase these artist’s books internationally\, providing a platform for artists to connect and share their work with a global audience. \n\n\n\nSize of the ArtistBooks:\n\n\n\nW x H x DMaximum 16 x 11 x 3 in / 40 x 27 x 8 cmMinimum 3 x 3 in / 8 x 8 x 3 cmWeight – maximum 0.50 lb / 250 g \n\n\n\nMaterials Used in ArtistBooks \n\n\n\nSince the books will be traveling internationally\, they should not contain biological materials such as animal fur\, insect parts\, seeds\, leaves\, and other plant parts\, etc. \n\n\n\nMore Information\n\n\n\nMonique’s presentation includes information and images related to this project and to historical and contemporary Artists’ Books. There are also links to additional resources.Artists’ Books Presentation (PDF 5 MB)
URL:https://inspirationartgroup.org/event/meeting-for-addressearth-artistbooks-2/
LOCATION:New York
ATTACH;FMTTYPE=image/jpeg:https://inspirationartgroup.org/wp-content/uploads/2024/12/Untitled-2.jpg
END:VEVENT
BEGIN:VEVENT
DTSTART;TZID=America/New_York:20250211T130000
DTEND;TZID=America/New_York:20250211T150000
DTSTAMP:20260424T214851
CREATED:20230414T152622Z
LAST-MODIFIED:20250203T001042Z
UID:10469-1739278800-1739286000@inspirationartgroup.org
SUMMARY:Art for Peace
DESCRIPTION:A free\, virtual open studio\n\n\n\n1:00 PM – 4:00 PM New York TimeTuesday – April – 7\, 14\, 21 & 28Tuesday – May – 05\, 12 & 19 \n\n\n\n\nEnter Art For Peace\n\n\n\n\n\n\nWe gather to make art in our virtual community to become more grounded and peaceful. It is a beautiful way to unite with like-minded individuals while participating in your creative practice of choice! Art for Peace was founded by renowned art therapist and educator\, Barbara Fish\, as a creative response to the violent events of September 11\, 2001. For twenty years\, Art for Peace has offered a free space for community art-making. Our intention is to become responsive instead of reactive in our lives\, despite the traumatic events that we witness.
URL:https://inspirationartgroup.org/event/art-for-peace-15/
LOCATION:New York
ATTACH;FMTTYPE=image/jpeg:https://inspirationartgroup.org/wp-content/uploads/2023/04/Art_Peace5x7-1.jpg
END:VEVENT
BEGIN:VEVENT
DTSTART;TZID=America/New_York:20250218T130000
DTEND;TZID=America/New_York:20250218T150000
DTSTAMP:20260424T214851
CREATED:20230430T220906Z
LAST-MODIFIED:20250203T001152Z
UID:10623-1739883600-1739890800@inspirationartgroup.org
SUMMARY:Art for Peace
DESCRIPTION:A free\, virtual open studio\n\n\n\n1:00 PM – 4:00 PM New York TimeTuesday – April – 7\, 14\, 21 & 28Tuesday – May – 05\, 12 & 19 \n\n\n\n\nEnter Art For Peace\n\n\n\n\n\n\nWe gather to make art in our virtual community to become more grounded and peaceful. It is a beautiful way to unite with like-minded individuals while participating in your creative practice of choice! Art for Peace was founded by renowned art therapist and educator\, Barbara Fish\, as a creative response to the violent events of September 11\, 2001. For twenty years\, Art for Peace has offered a free space for community art-making. Our intention is to become responsive instead of reactive in our lives\, despite the traumatic events that we witness.
URL:https://inspirationartgroup.org/event/art-for-peace-19/
LOCATION:New York
ATTACH;FMTTYPE=image/jpeg:https://inspirationartgroup.org/wp-content/uploads/2023/04/Art_Peace5x7-1.jpg
END:VEVENT
END:VCALENDAR