BEGIN:VCALENDAR
VERSION:2.0
PRODID:-//Inspiration Art Group International - ECPv6.15.20//NONSGML v1.0//EN
CALSCALE:GREGORIAN
METHOD:PUBLISH
X-WR-CALNAME:Inspiration Art Group International
X-ORIGINAL-URL:https://inspirationartgroup.org
X-WR-CALDESC:Events for Inspiration Art Group International
REFRESH-INTERVAL;VALUE=DURATION:PT1H
X-Robots-Tag:noindex
X-PUBLISHED-TTL:PT1H
BEGIN:VTIMEZONE
TZID:America/New_York
BEGIN:DAYLIGHT
TZOFFSETFROM:-0500
TZOFFSETTO:-0400
TZNAME:EDT
DTSTART:20220313T070000
END:DAYLIGHT
BEGIN:STANDARD
TZOFFSETFROM:-0400
TZOFFSETTO:-0500
TZNAME:EST
DTSTART:20221106T060000
END:STANDARD
BEGIN:DAYLIGHT
TZOFFSETFROM:-0500
TZOFFSETTO:-0400
TZNAME:EDT
DTSTART:20230312T070000
END:DAYLIGHT
BEGIN:STANDARD
TZOFFSETFROM:-0400
TZOFFSETTO:-0500
TZNAME:EST
DTSTART:20231105T060000
END:STANDARD
BEGIN:DAYLIGHT
TZOFFSETFROM:-0500
TZOFFSETTO:-0400
TZNAME:EDT
DTSTART:20240310T070000
END:DAYLIGHT
BEGIN:STANDARD
TZOFFSETFROM:-0400
TZOFFSETTO:-0500
TZNAME:EST
DTSTART:20241103T060000
END:STANDARD
END:VTIMEZONE
BEGIN:VEVENT
DTSTART;TZID=America/New_York:20230116T070000
DTEND;TZID=America/New_York:20230211T225900
DTSTAMP:20260424T043036
CREATED:20230116T205815Z
LAST-MODIFIED:20230117T154001Z
UID:8987-1673852400-1676156340@inspirationartgroup.org
SUMMARY:Submit Art for March Virtual Exhibition
DESCRIPTION:Here’s to Hers & Hares\n\n\n\nMarch 11\, 2023 – March 31\, 2025A Virtual Exhibition celebratingWomen’s Month\, Year of the Rabbit and our First Anniversary!Submissions are now open to Artist Members of Inspiration Art Group International until February 11\, 2023. \n\n\n\nSubmit Artwork
URL:https://inspirationartgroup.org/event/submit-art-for-march-virtual-exhibition/
CATEGORIES:Art Submission
ATTACH;FMTTYPE=image/jpeg:https://inspirationartgroup.org/wp-content/uploads/2023/01/HersHares.jpg
END:VEVENT
END:VCALENDAR