BEGIN:VCALENDAR
VERSION:2.0
PRODID:-//Inspiration Art Group International - ECPv6.15.20//NONSGML v1.0//EN
CALSCALE:GREGORIAN
METHOD:PUBLISH
X-WR-CALNAME:Inspiration Art Group International
X-ORIGINAL-URL:https://inspirationartgroup.org
X-WR-CALDESC:Events for Inspiration Art Group International
REFRESH-INTERVAL;VALUE=DURATION:PT1H
X-Robots-Tag:noindex
X-PUBLISHED-TTL:PT1H
BEGIN:VTIMEZONE
TZID:America/New_York
BEGIN:DAYLIGHT
TZOFFSETFROM:-0500
TZOFFSETTO:-0400
TZNAME:EDT
DTSTART:20250309T070000
END:DAYLIGHT
BEGIN:STANDARD
TZOFFSETFROM:-0400
TZOFFSETTO:-0500
TZNAME:EST
DTSTART:20251102T060000
END:STANDARD
BEGIN:DAYLIGHT
TZOFFSETFROM:-0500
TZOFFSETTO:-0400
TZNAME:EDT
DTSTART:20260308T070000
END:DAYLIGHT
BEGIN:STANDARD
TZOFFSETFROM:-0400
TZOFFSETTO:-0500
TZNAME:EST
DTSTART:20261101T060000
END:STANDARD
BEGIN:DAYLIGHT
TZOFFSETFROM:-0500
TZOFFSETTO:-0400
TZNAME:EDT
DTSTART:20270314T070000
END:DAYLIGHT
BEGIN:STANDARD
TZOFFSETFROM:-0400
TZOFFSETTO:-0500
TZNAME:EST
DTSTART:20271107T060000
END:STANDARD
END:VTIMEZONE
BEGIN:VEVENT
DTSTART;TZID=America/New_York:20260324T130000
DTEND;TZID=America/New_York:20260324T160000
DTSTAMP:20260423T192649
CREATED:20230322T150542Z
LAST-MODIFIED:20260301T005500Z
UID:10077-1774357200-1774368000@inspirationartgroup.org
SUMMARY:Art for Peace
DESCRIPTION:A free\, virtual open studio\n\n\n\n1:00 PM – 4:00 PM New York TimeTuesday – April – 7\, 14\, 21 & 28Tuesday – May – 05\, 12 & 19 \n\n\n\n\nEnter Art For Peace\n\n\n\n\n\n\nWe gather to make art in our virtual community to become more grounded and peaceful. It is a beautiful way to unite with like-minded individuals while participating in your creative practice of choice! Art for Peace was founded by renowned art therapist and educator\, Barbara Fish\, as a creative response to the violent events of September 11\, 2001. For twenty years\, Art for Peace has offered a free space for community art-making. Our intention is to become responsive instead of reactive in our lives\, despite the traumatic events that we witness.
URL:https://inspirationartgroup.org/event/art-for-peace-10/
LOCATION:New York
ATTACH;FMTTYPE=image/jpeg:https://inspirationartgroup.org/wp-content/uploads/2023/04/Art_Peace5x7-1.jpg
END:VEVENT
BEGIN:VEVENT
DTSTART;TZID=America/New_York:20260331T130000
DTEND;TZID=America/New_York:20260331T160000
DTSTAMP:20260423T192649
CREATED:20230430T220350Z
LAST-MODIFIED:20260301T005630Z
UID:10618-1774962000-1774972800@inspirationartgroup.org
SUMMARY:Art for Peace
DESCRIPTION:A free\, virtual open studio\n\n\n\n1:00 PM – 4:00 PM New York TimeTuesday – April – 7\, 14\, 21 & 28Tuesday – May – 05\, 12 & 19 \n\n\n\n\nEnter Art For Peace\n\n\n\n\n\n\nWe gather to make art in our virtual community to become more grounded and peaceful. It is a beautiful way to unite with like-minded individuals while participating in your creative practice of choice! Art for Peace was founded by renowned art therapist and educator\, Barbara Fish\, as a creative response to the violent events of September 11\, 2001. For twenty years\, Art for Peace has offered a free space for community art-making. Our intention is to become responsive instead of reactive in our lives\, despite the traumatic events that we witness.
URL:https://inspirationartgroup.org/event/art-for-peace-17/
LOCATION:New York
ATTACH;FMTTYPE=image/jpeg:https://inspirationartgroup.org/wp-content/uploads/2023/04/Art_Peace5x7-1.jpg
END:VEVENT
BEGIN:VEVENT
DTSTART;TZID=America/New_York:20260407T130000
DTEND;TZID=America/New_York:20260407T160000
DTSTAMP:20260423T192649
CREATED:20250905T193600Z
LAST-MODIFIED:20260406T215529Z
UID:12642-1775566800-1775577600@inspirationartgroup.org
SUMMARY:Art for Peace
DESCRIPTION:A free\, virtual open studio\n\n\n\n1:00 PM – 4:00 PM New York TimeTuesday – April – 7\, 14\, 21 & 28Tuesday – May – 05\, 12 & 19 \n\n\n\n\nEnter Art For Peace\n\n\n\n\n\n\nWe gather to make art in our virtual community to become more grounded and peaceful. It is a beautiful way to unite with like-minded individuals while participating in your creative practice of choice! Art for Peace was founded by renowned art therapist and educator\, Barbara Fish\, as a creative response to the violent events of September 11\, 2001. For twenty years\, Art for Peace has offered a free space for community art-making. Our intention is to become responsive instead of reactive in our lives\, despite the traumatic events that we witness.
URL:https://inspirationartgroup.org/event/art-for-peace-6/
LOCATION:New York
ATTACH;FMTTYPE=image/jpeg:https://inspirationartgroup.org/wp-content/uploads/2023/04/Art_Peace5x7-1.jpg
END:VEVENT
BEGIN:VEVENT
DTSTART;TZID=America/New_York:20260407T140000
DTEND;TZID=America/New_York:20260407T150000
DTSTAMP:20260423T192649
CREATED:20260406T215117Z
LAST-MODIFIED:20260406T215120Z
UID:17841-1775570400-1775574000@inspirationartgroup.org
SUMMARY:Group Coaching Copy
DESCRIPTION:In this session\, we will be making texture collages. \n\n\n\nIn Life & Engagement coaching the coach helps you find solutions to your challenges and overcome obstacles to your success by asking questions. \n\n\n\nEngagement Coaching is not therapy or counseling\, mentoring\, advice-giving or problem-solving. \n\n\n\nYou will be invited\, but not required\, to share with the group. \n\n\n\n\n\n\n\n\n\n\n\n\n\n\n\n\nEnter Coaching Session
URL:https://inspirationartgroup.org/event/group-coaching-copy-2/
LOCATION:New York
ATTACH;FMTTYPE=image/jpeg:https://inspirationartgroup.org/wp-content/uploads/2024/09/8-Heart@Life-504x360-1.jpg
END:VEVENT
BEGIN:VEVENT
DTSTART;TZID=America/New_York:20260410T100000
DTEND;TZID=America/New_York:20260410T170000
DTSTAMP:20260423T192649
CREATED:20260227T010235Z
LAST-MODIFIED:20260227T010700Z
UID:17535-1775815200-1775840400@inspirationartgroup.org
SUMMARY:Cultural Trip: Every Woman Biennial & Whitney Biennial
DESCRIPTION:Every Woman Biennial\n\n\n\nPen + Brush \n\n\n\n29 E 22nd Street New York\, New York \n\n\n\n\n\n\n\n\n\n \n\n\n\n\n\n\n\n\n\n\n\nWhitney Biennial\n\n\n\nWhitney Museum of America Art \n\n\n\n 99 Gansevoort Street New York\, New York \n\n\n\n\n\n\n\n\n\nRegister for TripFirst NameLast NameEmail Address *Phone NumberMessage0 / 180Consent *Yes\, I agree with the privacy policy and terms and conditions. Send Message
URL:https://inspirationartgroup.org/event/cultural-trip-every-woman-biennial-whitney-biennial/
LOCATION:New York
ATTACH;FMTTYPE=image/jpeg:https://inspirationartgroup.org/wp-content/uploads/2022/05/Cultural-Trips-copy-1.jpg
END:VEVENT
BEGIN:VEVENT
DTSTART;TZID=America/New_York:20260414T130000
DTEND;TZID=America/New_York:20260414T160000
DTSTAMP:20260423T192649
CREATED:20230221T180108Z
LAST-MODIFIED:20260414T161952Z
UID:9494-1776171600-1776182400@inspirationartgroup.org
SUMMARY:Art for Peace
DESCRIPTION:A free\, virtual open studio\n\n\n\n1:00 PM – 4:00 PM New York TimeTuesday – April – 7\, 14\, 21 & 28Tuesday – May – 05\, 12 & 19 \n\n\n\n\nEnter Art For Peace\n\n\n\n\n\n\nWe gather to make art in our virtual community to become more grounded and peaceful. It is a beautiful way to unite with like-minded individuals while participating in your creative practice of choice! Art for Peace was founded by renowned art therapist and educator\, Barbara Fish\, as a creative response to the violent events of September 11\, 2001. For twenty years\, Art for Peace has offered a free space for community art-making. Our intention is to become responsive instead of reactive in our lives\, despite the traumatic events that we witness.
URL:https://inspirationartgroup.org/event/art-for-peace-7/
LOCATION:New York
ATTACH;FMTTYPE=image/jpeg:https://inspirationartgroup.org/wp-content/uploads/2023/04/Art_Peace5x7-1.jpg
END:VEVENT
BEGIN:VEVENT
DTSTART;TZID=America/New_York:20260421T130000
DTEND;TZID=America/New_York:20260421T160000
DTSTAMP:20260423T192649
CREATED:20250811T153000Z
LAST-MODIFIED:20260414T162106Z
UID:10471-1776776400-1776787200@inspirationartgroup.org
SUMMARY:Art for Peace
DESCRIPTION:A free\, virtual open studio\n\n\n\n1:00 PM – 4:00 PM New York TimeTuesday – April – 7\, 14\, 21 & 28Tuesday – May – 05\, 12 & 19 \n\n\n\n\nEnter Art For Peace\n\n\n\n\n\n\nWe gather to make art in our virtual community to become more grounded and peaceful. It is a beautiful way to unite with like-minded individuals while participating in your creative practice of choice! Art for Peace was founded by renowned art therapist and educator\, Barbara Fish\, as a creative response to the violent events of September 11\, 2001. For twenty years\, Art for Peace has offered a free space for community art-making. Our intention is to become responsive instead of reactive in our lives\, despite the traumatic events that we witness.
URL:https://inspirationartgroup.org/event/art-for-peace-16/
LOCATION:New York
ATTACH;FMTTYPE=image/jpeg:https://inspirationartgroup.org/wp-content/uploads/2023/04/Art_Peace5x7-1.jpg
END:VEVENT
BEGIN:VEVENT
DTSTART;TZID=America/New_York:20260428T130000
DTEND;TZID=America/New_York:20260428T160000
DTSTAMP:20260423T192649
CREATED:20250901T173000Z
LAST-MODIFIED:20260414T162203Z
UID:10640-1777381200-1777392000@inspirationartgroup.org
SUMMARY:Art for Peace
DESCRIPTION:A free\, virtual open studio\n\n\n\n1:00 PM – 4:00 PM New York TimeTuesday – April – 7\, 14\, 21 & 28Tuesday – May – 05\, 12 & 19 \n\n\n\n\nEnter Art For Peace\n\n\n\n\n\n\nWe gather to make art in our virtual community to become more grounded and peaceful. It is a beautiful way to unite with like-minded individuals while participating in your creative practice of choice! Art for Peace was founded by renowned art therapist and educator\, Barbara Fish\, as a creative response to the violent events of September 11\, 2001. For twenty years\, Art for Peace has offered a free space for community art-making. Our intention is to become responsive instead of reactive in our lives\, despite the traumatic events that we witness.
URL:https://inspirationartgroup.org/event/art-for-peace-21/
LOCATION:New York
ATTACH;FMTTYPE=image/jpeg:https://inspirationartgroup.org/wp-content/uploads/2023/04/Art_Peace5x7-1.jpg
END:VEVENT
BEGIN:VEVENT
DTSTART;TZID=America/New_York:20260503T150000
DTEND;TZID=America/New_York:20260503T170000
DTSTAMP:20260423T192649
CREATED:20260414T161207Z
LAST-MODIFIED:20260414T161754Z
UID:17875-1777820400-1777827600@inspirationartgroup.org
SUMMARY:The Great Swamp of the Hudson Valley Opening
DESCRIPTION:A Photo Series by Frank Matheis  \n\n\n\nOn display May 1 – May 30\, 2026
URL:https://inspirationartgroup.org/event/the-great-swamp-of-the-hudson-valley-opening/
LOCATION:Katonah Village Library\, 26 Bedford Rd\, Katonah\, New York
ATTACH;FMTTYPE=image/jpeg:https://inspirationartgroup.org/wp-content/uploads/2026/02/F_Matheis_Green-Heron-Male.jpg
END:VEVENT
END:VCALENDAR